BEGIN:VCALENDAR
VERSION:2.0
PRODID:-//Kettering Ministries - ECPv6.15.14//NONSGML v1.0//EN
CALSCALE:GREGORIAN
METHOD:PUBLISH
X-ORIGINAL-URL:https://ketteringministries.org
X-WR-CALDESC:Events for Kettering Ministries
REFRESH-INTERVAL;VALUE=DURATION:PT1H
X-Robots-Tag:noindex
X-PUBLISHED-TTL:PT1H
BEGIN:VTIMEZONE
TZID:UTC
BEGIN:STANDARD
TZOFFSETFROM:+0000
TZOFFSETTO:+0000
TZNAME:UTC
DTSTART:20240101T000000
END:STANDARD
END:VTIMEZONE
BEGIN:VEVENT
DTSTART;VALUE=DATE:20260101
DTEND;VALUE=DATE:20260201
DTSTAMP:20260419T134547
CREATED:20251228T053828Z
LAST-MODIFIED:20251228T053828Z
UID:10004338-1767225600-1769903999@ketteringministries.org
SUMMARY:2026 Memory Verse Initiative
DESCRIPTION:Starting 2026\, we will share a monthly memory verse for our entire church family to encourage the memorization of God’s Word.\nJanuary’s Memory Verse is John 14:23–24 (NKJV):\n➢ Jesus answered and said to him\, “If anyone loves Me\, he will keep My\nword; and My Father will love him\, and We will come to him and make\nOur home with him. He who does not love Me does not keep My words;\nand the word which you hear is not Mine but the Father’s who sent Me.”
URL:https://ketteringministries.org/event/2026-memory-verse-initiative/
LOCATION:KBCLC
END:VEVENT
BEGIN:VEVENT
DTSTART;VALUE=DATE:20251228
DTEND;VALUE=DATE:20260201
DTSTAMP:20260419T134547
CREATED:20251228T050506Z
LAST-MODIFIED:20260110T235546Z
UID:10004334-1766880000-1769903999@ketteringministries.org
SUMMARY:Contribution Envelopes Distribution
DESCRIPTION:Contribution Envelopes Distribution\n The 2026 Contribution Envelopes will be available for pickup to members who are donating by check and/or cash in Room 110. A Contributions Management ministry member will be there to assist before and after service.\n The posting of the mail-in Contributions deadline for 2025 is December 31\, 2025. The deadline for 2025 e’Giving and PayPal is 11:59pm on Wednesday\, December 31\, 2025. Contributions received after these deadlines will appear in your 2026 Statement. To ensure your 2025 statement is mailed to the correct address and your Family Care Ministry can contact you\, please complete the ‘Address Update’ Form.
URL:https://ketteringministries.org/event/contribution-envelopes-distribution-2/
LOCATION:KBCLC
END:VEVENT
END:VCALENDAR