BEGIN:VCALENDAR
VERSION:2.0
PRODID:-//Kettering Ministries - ECPv6.15.14//NONSGML v1.0//EN
CALSCALE:GREGORIAN
METHOD:PUBLISH
X-WR-CALNAME:Kettering Ministries
X-ORIGINAL-URL:https://ketteringministries.org
X-WR-CALDESC:Events for Kettering Ministries
REFRESH-INTERVAL;VALUE=DURATION:PT1H
X-Robots-Tag:noindex
X-PUBLISHED-TTL:PT1H
BEGIN:VTIMEZONE
TZID:UTC
BEGIN:STANDARD
TZOFFSETFROM:+0000
TZOFFSETTO:+0000
TZNAME:UTC
DTSTART:20250101T000000
END:STANDARD
END:VTIMEZONE
BEGIN:VEVENT
DTSTART;VALUE=DATE:20260319
DTEND;VALUE=DATE:20260902
DTSTAMP:20260421T084731
CREATED:20260319T185615Z
LAST-MODIFIED:20260319T185615Z
UID:10004485-1773878400-1788307199@ketteringministries.org
SUMMARY:WEM Retreat Installment Payment Instructions
DESCRIPTION:Loading...\n						\n					\n					\n						\n							\n							Taking too long?\n						\n						\n							\n								 Reload document							\n							|\n							\n								 Open in new tab
URL:https://ketteringministries.org/event/wem-retreat-installment-payment-instructions/
LOCATION:Eden Resort\, Lancaster\, Pennsylvania
END:VEVENT
BEGIN:VEVENT
DTSTART;VALUE=DATE:20260329
DTEND;VALUE=DATE:20260518
DTSTAMP:20260421T084731
CREATED:20260329T041503Z
LAST-MODIFIED:20260407T202908Z
UID:10004491-1774742400-1779062399@ketteringministries.org
SUMMARY:Vacation Bible School
DESCRIPTION: VBS Training: All volunteers and those interested in volunteering are highly encouraged to attend VBS training on Saturday\, April 11th\,\n8:00am to 12:00pm at Georgia Avenue Baptist Church in Silver Spring.\n VBS: This year’s theme is\, “Illumination Station: Shining a Light on Who Jesus Really Is.” Daytime VBS will be from 7:30am to 5:30pm June 22-26 & June 29 – July 2 for 1st thru 8th grade. The cost is $210 per child per week. Evening VBS will be June 29th- July 2nd from 7:00pm to 9:00pm for Kindergarten through Adults and is FREE of charge. Dinner will be served nightly. Volunteers are heavily needed. Click here to register for Daytime VBS. Click here to register for evening VBS school.
URL:https://ketteringministries.org/event/84321/
LOCATION:KBCLC
END:VEVENT
BEGIN:VEVENT
DTSTART;VALUE=DATE:20260401
DTEND;VALUE=DATE:20260501
DTSTAMP:20260421T084731
CREATED:20260418T022526Z
LAST-MODIFIED:20260418T022755Z
UID:10004504-1775001600-1777593599@ketteringministries.org
SUMMARY:2026 Memory Verse Initiative
DESCRIPTION: Let us encourage one another to hide God’s Word in our hearts as we faithfully commit to the memorization of Scripture. \n April’s Memory Verse is Romans 5:20-21 (NKJV):\n“Moreover the law entered that the offense might abound. But where sin abounded\, grace abounded much more\, so that as sin reigned in death\, even so grace might reign through righteousness to eternal life through Jesus Christ our Lord.”
URL:https://ketteringministries.org/event/2026-memory-verse-initiative-3/
LOCATION:KBCLC
END:VEVENT
BEGIN:VEVENT
DTSTART;VALUE=DATE:20260412
DTEND;VALUE=DATE:20260427
DTSTAMP:20260421T084731
CREATED:20260413T000321Z
LAST-MODIFIED:20260413T000321Z
UID:10004500-1775952000-1777247999@ketteringministries.org
SUMMARY:Newsletter Ministry Volunteers Needed
DESCRIPTION:We are excited to relaunch our Newsletter Ministry and are seeking Kettering members who are interested in serving in this area. Opportunities are available for photographers\, writers/journalists\, editors\, and others with a passion for communication and storytelling. If you are interested in using your gifts to help share what God is doing in and through our church\, we would love to hear from you. Please leave your name and contact number with the church office. We look forward to connecting with you!
URL:https://ketteringministries.org/event/newsletter-ministry-volunteers-needed/
LOCATION:KBCLC
END:VEVENT
BEGIN:VEVENT
DTSTART;VALUE=DATE:20260412
DTEND;VALUE=DATE:20260510
DTSTAMP:20260421T084731
CREATED:20260315T121529Z
LAST-MODIFIED:20260413T002025Z
UID:10004479-1775952000-1778371199@ketteringministries.org
SUMMARY:Scholarship Opportunities
DESCRIPTION:Are you interested in resources and tools to help pay for college? Kettering’s Scholarship Ministry offers a free\, online database of local and national scholarships\, college readiness resources\, fairs\, and other helpful tools. The database also includes several Historically Black Colleges and University scholarships and resources\, like Morgan State’s upcoming Alumni Scholarship and others. To access the database\, scan the QR code or visit the Scholarship Ministry’s page. \n 
URL:https://ketteringministries.org/event/scholarship-opportunities/
LOCATION:KBCLC
END:VEVENT
BEGIN:VEVENT
DTSTART;VALUE=DATE:20260419
DTEND;VALUE=DATE:20260426
DTSTAMP:20260421T084731
CREATED:20260419T132344Z
LAST-MODIFIED:20260419T132344Z
UID:10004510-1776556800-1777161599@ketteringministries.org
SUMMARY:Upcoming Events 4-19-2026
DESCRIPTION:Loading...\n						\n					\n					\n						\n							\n							Taking too long?\n						\n						\n							\n								 Reload document							\n							|\n							\n								 Open in new tab
URL:https://ketteringministries.org/event/upcoming-events-4-19-2026/
LOCATION:KBCLC
END:VEVENT
BEGIN:VEVENT
DTSTART;VALUE=DATE:20260419
DTEND;VALUE=DATE:20260504
DTSTAMP:20260421T084731
CREATED:20260419T040142Z
LAST-MODIFIED:20260419T040142Z
UID:10004506-1776556800-1777852799@ketteringministries.org
SUMMARY:Scholarship Ministry
DESCRIPTION:Did your child make the honor roll for the 3rd quarter? If so\, the Scholarship Ministry would like to recognize their achievement and ask that you email a copy of their report card to or fax it to the administrative office no later than 5:00pm Sunday\, May 3rd.
URL:https://ketteringministries.org/event/scholarship-ministry/
END:VEVENT
BEGIN:VEVENT
DTSTART;VALUE=DATE:20260419
DTEND;VALUE=DATE:20260504
DTSTAMP:20260421T084731
CREATED:20260419T131336Z
LAST-MODIFIED:20260419T131336Z
UID:10004508-1776556800-1777852799@ketteringministries.org
SUMMARY:New Service Times
DESCRIPTION:Beginning Sunday\, May 3rd\, we will offer two Sunday Worship Services at 8:00am and 11:00am. Sunday School will begin at 9:45am. Mission Friends and Nursery will not be available during the 8:00am Service.
URL:https://ketteringministries.org/event/new-service-times/
LOCATION:KBCLC
END:VEVENT
BEGIN:VEVENT
DTSTART;VALUE=DATE:20260419
DTEND;VALUE=DATE:20260507
DTSTAMP:20260421T084731
CREATED:20260417T115626Z
LAST-MODIFIED:20260419T024050Z
UID:10004503-1776556800-1778111999@ketteringministries.org
SUMMARY:DTM Registration-Spring 2026 Session B
DESCRIPTION:Registration for DTM Classes for Session B of the Spring Session will take place starting Sunday\, April 19th – Wednesday\, May 6th. Classes begin Monday\, May 11th. \nClick  HERE to view the description of the classes being offered\, There are women’s classes\, a men’s class\, and Co-Ed classes. \nTo register for a class\, locate the class name in the list provided below and click on it to initiate the registration process. \n			\n				\n					\n						\n							\n							Loading...\n						\n					\n					\n						\n							\n							Taking too long?\n						\n						\n							\n								 Reload document							\n							|\n							\n								 Open in new tab
URL:https://ketteringministries.org/event/dtm-registration-spring-2026-session-b/
LOCATION:KBCLC
END:VEVENT
BEGIN:VEVENT
DTSTART;VALUE=DATE:20260422
DTEND;VALUE=DATE:20260423
DTSTAMP:20260421T084731
CREATED:20260412T235906Z
LAST-MODIFIED:20260412T235906Z
UID:10004499-1776816000-1776902399@ketteringministries.org
SUMMARY:Administrative Professionals Day
DESCRIPTION:Wednesday\, April 22nd is Administrative Professionals Day. Please take time out to express appreciation to our administrators for the support they provide Kettering Baptist Church: Andrea Mercer (Church Administrator)\, Trevionne Bryan (Pastoral Administrator)\, Rhonda Caldwell (Operations Administrator)\, Conchita McRavin(church clerk) and Tiara Andrews (assistant church clerk).
URL:https://ketteringministries.org/event/administrative-professionals-day/
LOCATION:KBCLC
END:VEVENT
BEGIN:VEVENT
DTSTART;TZID=UTC:20260422T190000
DTEND;TZID=UTC:20260422T201500
DTSTAMP:20260421T084731
CREATED:20260104T010700Z
LAST-MODIFIED:20260104T010700Z
UID:10004357-1776884400-1776888900@ketteringministries.org
SUMMARY:AWANA
DESCRIPTION:Attention parents and guardians\, the AWANA program is back! Join us every Wednesday night beginning September 10th from 7:00pm – 8:15pm through June 2026. AWANA is open to children (potty trained) pre-K through 12th grade. Participants will experience an exciting curriculum learning more about Jesus Christ while enjoying games\, snacks and other special events. Registration is $40. Click here to register. For more information contact AWANA commander Minister Ryan Richardson here.
URL:https://ketteringministries.org/event/awana/2026-04-22/
LOCATION:KBCLC
END:VEVENT
BEGIN:VEVENT
DTSTART;TZID=UTC:20260424T190000
DTEND;TZID=UTC:20260424T210000
DTSTAMP:20260421T084731
CREATED:20260412T020129Z
LAST-MODIFIED:20260412T020129Z
UID:10004495-1777057200-1777064400@ketteringministries.org
SUMMARY:Alive Young Adult Ministry Fellowship
DESCRIPTION:The Alive Young Adult Ministry invites all young adults (ages 18-28) to join us for a night of encouragement in the faith and fellowship at our Active Faith Friday event on Friday\, April 24th.  The time is 7:00pm and the price is FREE. Food will be provided\, so please let us know if you plan to attend in-person or virtually by sending an email to aya@ketteringministries.org by Wednesday\, April 22nd.  POC is Minister Anthony Barnes.
URL:https://ketteringministries.org/event/alive-young-adult-ministry-fellowship/
LOCATION:KBCLC
END:VEVENT
BEGIN:VEVENT
DTSTART;TZID=UTC:20260424T190000
DTEND;TZID=UTC:20260424T210000
DTSTAMP:20260421T084731
CREATED:20260419T131832Z
LAST-MODIFIED:20260419T131832Z
UID:10004509-1777057200-1777064400@ketteringministries.org
SUMMARY:Active Faith Friday
DESCRIPTION:The Alive Young Adult Ministry invites all young adults (ages 18-28) to join us for a night of encouragement in the faith and fellowship at our Active Faith Friday event on Friday\, April 24th at 7:00pm. Food will be provided\, so please let us know if you plan to attend in-person or virtually by sending an email here by Wednesday\, April 22nd.
URL:https://ketteringministries.org/event/active-faith-friday/
LOCATION:KBCLC
END:VEVENT
BEGIN:VEVENT
DTSTART;VALUE=DATE:20260426
DTEND;VALUE=DATE:20260427
DTSTAMP:20260421T084731
CREATED:20260220T211818Z
LAST-MODIFIED:20260313T230216Z
UID:10004449-1777161600-1777247999@ketteringministries.org
SUMMARY:2026 WEM Retreat
DESCRIPTION:Loading...\n						\n					\n					\n						\n							\n							Taking too long?\n						\n						\n							\n								 Reload document							\n							|\n							\n								 Open in new tab
URL:https://ketteringministries.org/event/wem-retreat-2/2026-04-26/
LOCATION:Eden Resort\, Lancaster\, Pennsylvania
ATTACH;FMTTYPE=image/jpeg:https://ketteringministries.org/wp-content/uploads/2026/03/WEM_2026_Retreat_updated.jpeg
END:VEVENT
BEGIN:VEVENT
DTSTART;TZID=UTC:20260429T190000
DTEND;TZID=UTC:20260429T190000
DTSTAMP:20260421T084731
CREATED:20260412T015025Z
LAST-MODIFIED:20260412T015222Z
UID:10004494-1777489200-1777489200@ketteringministries.org
SUMMARY:Quarterly Business Meeting
DESCRIPTION:We encourage all members to attend the 2026 First Quarterly Business Meeting on Wednesday\, April 29th at 7:00 pm. Don’t miss this opportunity to stay informed. This meeting will be conducted in a hybrid format. You may register here through Sunday\, April 26th by 5:00 pm.
URL:https://ketteringministries.org/event/quarterly-business-meeting-2/
LOCATION:KBCLC
END:VEVENT
BEGIN:VEVENT
DTSTART;TZID=UTC:20260502T090000
DTEND;TZID=UTC:20260502T140000
DTSTAMP:20260421T084731
CREATED:20260419T035707Z
LAST-MODIFIED:20260419T035707Z
UID:10004505-1777712400-1777730400@ketteringministries.org
SUMMARY:Missions Outreach
DESCRIPTION:Kettering…we need your help on Saturday\, May 2nd from 9:00am=2:00pm to bless the staff at Arrowhead Elementary School as we make over their teacher’s lounge just in time for Teacher Appreciation Week. We will refresh their space and create a relaxing environment for staff to decompress. Help us put together furniture and install fixtures to make this space the place to be! Email here to join us!
URL:https://ketteringministries.org/event/missions-outreach/
LOCATION:Arrowhead Elementary\, 2300 Sansbury Rd\, Upper Marlboro\, MD\, 20774\, United States
GEO:38.8570499;-76.8428528
X-APPLE-STRUCTURED-LOCATION;VALUE=URI;X-ADDRESS=Arrowhead Elementary 2300 Sansbury Rd Upper Marlboro MD 20774 United States;X-APPLE-RADIUS=500;X-TITLE=2300 Sansbury Rd:geo:-76.8428528,38.8570499
END:VEVENT
BEGIN:VEVENT
DTSTART;TZID=UTC:20260510T121500
DTEND;TZID=UTC:20260510T131500
DTSTAMP:20260421T084731
CREATED:20251102T042015Z
LAST-MODIFIED:20260111T000210Z
UID:10004381-1778415300-1778418900@ketteringministries.org
SUMMARY:Alive Young Adult Power Hour
DESCRIPTION:Attention young adults (ages 18-28). The Alive Young Adult Ministry invites you to attend Power Hour on Second Sundays at 12:15pm in room 106 or on Webex. Power Hour is a time for young adults to dive into God’s word together. If you have questions or to join via Webex\, contact Minister Anthony Barnes here.
URL:https://ketteringministries.org/event/alive-young-adult-power-hour/2026-05-10/
LOCATION:Hybrid
END:VEVENT
BEGIN:VEVENT
DTSTART;TZID=UTC:20260606T080000
DTEND;TZID=UTC:20260606T130000
DTSTAMP:20260421T084731
CREATED:20260419T040645Z
LAST-MODIFIED:20260419T040645Z
UID:10004507-1780732800-1780750800@ketteringministries.org
SUMMARY:Evangelism Workshop & Walk
DESCRIPTION:Are you ready to answer the call to reach the world for Christ? Join the Missions Ministry on Saturday\, June 6th from 8:00am – 1:00pm for an interactive Evangelism Workshop and Evangelism Walk. This session is designed to equip you with practical tips and effective tools to\nconfidently share the Gospel with your community and beyond. Click here to sign up or if there are any questions.
URL:https://ketteringministries.org/event/evangelism-workshop-walk/
END:VEVENT
BEGIN:VEVENT
DTSTART;VALUE=DATE:20261105
DTEND;VALUE=DATE:20261108
DTSTAMP:20260421T084731
CREATED:20260222T054317Z
LAST-MODIFIED:20260320T215657Z
UID:10004468-1793836800-1794095999@ketteringministries.org
SUMMARY:WEM 2026 Retreat
DESCRIPTION:Loading...\n						\n					\n					\n						\n							\n							Taking too long?\n						\n						\n							\n								 Reload document							\n							|\n							\n								 Open in new tab							\n					\n				\n			\n		\n  \n  \n 
URL:https://ketteringministries.org/event/wem-2026-retreat/
LOCATION:Eden Resort\, Lancaster\, Pennsylvania
END:VEVENT
END:VCALENDAR