BEGIN:VCALENDAR
VERSION:2.0
PRODID:-//Kettering Ministries - ECPv6.15.14//NONSGML v1.0//EN
CALSCALE:GREGORIAN
METHOD:PUBLISH
X-WR-CALNAME:Kettering Ministries
X-ORIGINAL-URL:https://ketteringministries.org
X-WR-CALDESC:Events for Kettering Ministries
REFRESH-INTERVAL;VALUE=DURATION:PT1H
X-Robots-Tag:noindex
X-PUBLISHED-TTL:PT1H
BEGIN:VTIMEZONE
TZID:UTC
BEGIN:STANDARD
TZOFFSETFROM:+0000
TZOFFSETTO:+0000
TZNAME:UTC
DTSTART:20250101T000000
END:STANDARD
END:VTIMEZONE
BEGIN:VEVENT
DTSTART;VALUE=DATE:20260422
DTEND;VALUE=DATE:20260423
DTSTAMP:20260422T013231
CREATED:20260412T235906Z
LAST-MODIFIED:20260412T235906Z
UID:10004499-1776816000-1776902399@ketteringministries.org
SUMMARY:Administrative Professionals Day
DESCRIPTION:Wednesday\, April 22nd is Administrative Professionals Day. Please take time out to express appreciation to our administrators for the support they provide Kettering Baptist Church: Andrea Mercer (Church Administrator)\, Trevionne Bryan (Pastoral Administrator)\, Rhonda Caldwell (Operations Administrator)\, Conchita McRavin(church clerk) and Tiara Andrews (assistant church clerk).
URL:https://ketteringministries.org/event/administrative-professionals-day/
LOCATION:KBCLC
END:VEVENT
BEGIN:VEVENT
DTSTART;TZID=UTC:20260422T190000
DTEND;TZID=UTC:20260422T201500
DTSTAMP:20260422T013231
CREATED:20260104T010700Z
LAST-MODIFIED:20260104T010700Z
UID:10004357-1776884400-1776888900@ketteringministries.org
SUMMARY:AWANA
DESCRIPTION:Attention parents and guardians\, the AWANA program is back! Join us every Wednesday night beginning September 10th from 7:00pm – 8:15pm through June 2026. AWANA is open to children (potty trained) pre-K through 12th grade. Participants will experience an exciting curriculum learning more about Jesus Christ while enjoying games\, snacks and other special events. Registration is $40. Click here to register. For more information contact AWANA commander Minister Ryan Richardson here.
URL:https://ketteringministries.org/event/awana/2026-04-22/
LOCATION:KBCLC
END:VEVENT
END:VCALENDAR