BEGIN:VCALENDAR
VERSION:2.0
PRODID:-//Kettering Ministries - ECPv6.15.14//NONSGML v1.0//EN
CALSCALE:GREGORIAN
METHOD:PUBLISH
X-WR-CALNAME:Kettering Ministries
X-ORIGINAL-URL:https://ketteringministries.org
X-WR-CALDESC:Events for Kettering Ministries
REFRESH-INTERVAL;VALUE=DURATION:PT1H
X-Robots-Tag:noindex
X-PUBLISHED-TTL:PT1H
BEGIN:VTIMEZONE
TZID:UTC
BEGIN:STANDARD
TZOFFSETFROM:+0000
TZOFFSETTO:+0000
TZNAME:UTC
DTSTART:20250101T000000
END:STANDARD
END:VTIMEZONE
BEGIN:VEVENT
DTSTART;VALUE=DATE:20260419
DTEND;VALUE=DATE:20260426
DTSTAMP:20260420T015823
CREATED:20260419T132344Z
LAST-MODIFIED:20260419T132344Z
UID:10004510-1776556800-1777161599@ketteringministries.org
SUMMARY:Upcoming Events 4-19-2026
DESCRIPTION:Loading...\n						\n					\n					\n						\n							\n							Taking too long?\n						\n						\n							\n								 Reload document							\n							|\n							\n								 Open in new tab
URL:https://ketteringministries.org/event/upcoming-events-4-19-2026/
LOCATION:KBCLC
END:VEVENT
BEGIN:VEVENT
DTSTART;VALUE=DATE:20260419
DTEND;VALUE=DATE:20260504
DTSTAMP:20260420T015823
CREATED:20260419T040142Z
LAST-MODIFIED:20260419T040142Z
UID:10004506-1776556800-1777852799@ketteringministries.org
SUMMARY:Scholarship Ministry
DESCRIPTION:Did your child make the honor roll for the 3rd quarter? If so\, the Scholarship Ministry would like to recognize their achievement and ask that you email a copy of their report card to or fax it to the administrative office no later than 5:00pm Sunday\, May 3rd.
URL:https://ketteringministries.org/event/scholarship-ministry/
END:VEVENT
BEGIN:VEVENT
DTSTART;VALUE=DATE:20260419
DTEND;VALUE=DATE:20260504
DTSTAMP:20260420T015823
CREATED:20260419T131336Z
LAST-MODIFIED:20260419T131336Z
UID:10004508-1776556800-1777852799@ketteringministries.org
SUMMARY:New Service Times
DESCRIPTION:Beginning Sunday\, May 3rd\, we will offer two Sunday Worship Services at 8:00am and 11:00am. Sunday School will begin at 9:45am. Mission Friends and Nursery will not be available during the 8:00am Service.
URL:https://ketteringministries.org/event/new-service-times/
LOCATION:KBCLC
END:VEVENT
BEGIN:VEVENT
DTSTART;VALUE=DATE:20260419
DTEND;VALUE=DATE:20260507
DTSTAMP:20260420T015823
CREATED:20260417T115626Z
LAST-MODIFIED:20260419T024050Z
UID:10004503-1776556800-1778111999@ketteringministries.org
SUMMARY:DTM Registration-Spring 2026 Session B
DESCRIPTION:Registration for DTM Classes for Session B of the Spring Session will take place starting Sunday\, April 19th – Wednesday\, May 6th. Classes begin Monday\, May 11th. \nClick  HERE to view the description of the classes being offered\, There are women’s classes\, a men’s class\, and Co-Ed classes. \nTo register for a class\, locate the class name in the list provided below and click on it to initiate the registration process. \n			\n				\n					\n						\n							\n							Loading...\n						\n					\n					\n						\n							\n							Taking too long?\n						\n						\n							\n								 Reload document							\n							|\n							\n								 Open in new tab
URL:https://ketteringministries.org/event/dtm-registration-spring-2026-session-b/
LOCATION:KBCLC
END:VEVENT
END:VCALENDAR